{
 "documentInfo": {
  "Category": "",
  "Keywords": "FNP",
  "Version": "3.4.0",
  "Comments": "Flächennutzung in Duisburg",
  "AntialiasingMode": "Fast",
  "Title": "FNP 2025",
  "Author": "",
  "TextAntialiasingMode": "Force",
  "Subject": "Flächennutzungsplan 2023"
 },
 "maxImageWidth": 4096,
 "wmtsScaleFactor": 0.00028000000000003521,
 "maxRecordCount": 2000,
 "tileInfo": {
  "lods": [
   {
    "level": 0,
    "scale": 150000,
    "resolution": 39.687579375158755
   },
   {
    "level": 1,
    "scale": 100000,
    "resolution": 26.458386250105836
   },
   {
    "level": 2,
    "scale": 50000,
    "resolution": 13.229193125052918
   },
   {
    "level": 3,
    "scale": 20000,
    "resolution": 5.2916772500211673
   },
   {
    "level": 4,
    "scale": 10000,
    "resolution": 2.6458386250105836
   },
   {
    "level": 5,
    "scale": 5000,
    "resolution": 1.3229193125052918
   },
   {
    "level": 6,
    "scale": 2500,
    "resolution": 0.66145965625264591
   },
   {
    "level": 7,
    "scale": 1000,
    "resolution": 0.26458386250105836
   },
   {
    "level": 8,
    "scale": 500,
    "resolution": 0.13229193125052918
   }
  ],
  "origin": {
   "x": -5120900,
   "y": 9998100
  },
  "format": "JPEG",
  "compressionQuality": 100,
  "rows": 128,
  "dpi": 96,
  "spatialReference": {
   "falseM": -100000,
   "xyTolerance": 0.001,
   "mUnits": 10000,
   "zUnits": 10000,
   "latestWkid": 25832,
   "zTolerance": 0.001,
   "wkid": 25832,
   "xyUnits": 10000,
   "mTolerance": 0.001,
   "falseX": -5120900,
   "falseY": -9998100,
   "falseZ": -100000
  },
  "cols": 128
 },
 "description": "Flächennutzung in Duisburg",
 "datesInUnknownTimezone": false,
 "supportsQueryDomains": true,
 "units": "esriMeters",
 "maxSelectionCount": 2000,
 "supportedImageFormatTypes": "PNG32,PNG24,PNG,JPG,DIB,TIFF,EMF,PS,PDF,GIF,SVG,SVGZ,BMP",
 "supportsClipping": true,
 "exportTilesAllowed": false,
 "maxImageHeight": 4096,
 "tables": [],
 "hasVersionedData": false,
 "supportsDatumTransformation": true,
 "cimVersion": "3.7.0",
 "supportsQueryDataElements": true,
 "layers": [
  {
   "subLayerIds": [
    806,
    807,
    801,
    804
   ],
   "maxScale": 0,
   "name": "FNP Hauptplan",
   "defaultVisibility": true,
   "id": 805,
   "minScale": 0,
   "supportsDynamicLegends": false,
   "type": "Group Layer",
   "parentLayerId": -1
  },
  {
   "subLayerIds": null,
   "maxScale": 0,
   "name": "Stadtgebiet",
   "defaultVisibility": true,
   "id": 806,
   "minScale": 0,
   "supportsDynamicLegends": true,
   "type": "Feature Layer",
   "parentLayerId": 805,
   "geometryType": "esriGeometryPolygon"
  },
  {
   "subLayerIds": [
    808,
    755,
    756,
    757,
    758,
    759,
    760
   ],
   "maxScale": 0,
   "name": "FNP ohne Flächen",
   "defaultVisibility": true,
   "id": 807,
   "minScale": 0,
   "supportsDynamicLegends": false,
   "type": "Group Layer",
   "parentLayerId": 805
  },
  {
   "subLayerIds": [
    809,
    754
   ],
   "maxScale": 0,
   "name": "Layout",
   "defaultVisibility": true,
   "id": 808,
   "minScale": 0,
   "supportsDynamicLegends": false,
   "type": "Group Layer",
   "parentLayerId": 807
  },
  {
   "subLayerIds": [
    753
   ],
   "maxScale": 0,
   "name": "FNP Annototation",
   "defaultVisibility": true,
   "id": 809,
   "minScale": 0,
   "supportsDynamicLegends": false,
   "type": "Annotation Layer",
   "parentLayerId": 808,
   "geometryType": "esriGeometryPolygon"
  },
  {
   "subLayerIds": null,
   "maxScale": 0,
   "name": "Standard",
   "defaultVisibility": true,
   "id": 753,
   "minScale": 0,
   "supportsDynamicLegends": false,
   "parentLayerId": 809
  },
  {
   "subLayerIds": null,
   "maxScale": 0,
   "name": "Trennlininen zwischen SO-Gebieten",
   "defaultVisibility": true,
   "id": 754,
   "minScale": 0,
   "supportsDynamicLegends": true,
   "type": "Feature Layer",
   "parentLayerId": 808,
   "geometryType": "esriGeometryPolyline"
  },
  {
   "subLayerIds": null,
   "maxScale": 0,
   "name": "Punktsymbole",
   "defaultVisibility": true,
   "id": 755,
   "minScale": 0,
   "supportsDynamicLegends": true,
   "type": "Feature Layer",
   "parentLayerId": 807,
   "geometryType": "esriGeometryPoint"
  },
  {
   "subLayerIds": null,
   "maxScale": 0,
   "name": "Zentren",
   "defaultVisibility": true,
   "id": 756,
   "minScale": 0,
   "supportsDynamicLegends": true,
   "type": "Feature Layer",
   "parentLayerId": 807,
   "geometryType": "esriGeometryPoint"
  },
  {
   "subLayerIds": null,
   "maxScale": 0,
   "name": "Zentrale Versorgungsbereiche",
   "defaultVisibility": true,
   "id": 757,
   "minScale": 0,
   "supportsDynamicLegends": true,
   "type": "Feature Layer",
   "parentLayerId": 807,
   "geometryType": "esriGeometryPolygon"
  },
  {
   "subLayerIds": null,
   "maxScale": 0,
   "name": "Stadtbahntrasse",
   "defaultVisibility": true,
   "id": 758,
   "minScale": 0,
   "supportsDynamicLegends": true,
   "type": "Feature Layer",
   "parentLayerId": 807,
   "geometryType": "esriGeometryPolyline"
  },
  {
   "subLayerIds": null,
   "maxScale": 0,
   "name": "Geplanter Radschnellweg",
   "defaultVisibility": true,
   "id": 759,
   "minScale": 0,
   "supportsDynamicLegends": true,
   "type": "Feature Layer",
   "parentLayerId": 807,
   "geometryType": "esriGeometryPolyline"
  },
  {
   "subLayerIds": [
    761,
    790,
    795,
    798
   ],
   "maxScale": 0,
   "name": "Nachrichtliche Übernahmen und Vermerke",
   "defaultVisibility": true,
   "id": 760,
   "minScale": 0,
   "supportsDynamicLegends": false,
   "type": "Group Layer",
   "parentLayerId": 807
  },
  {
   "subLayerIds": [
    762,
    767,
    770,
    784,
    786,
    788
   ],
   "maxScale": 0,
   "name": "Nachrichtliche Übernahmen (§ 5 Abs. 4a BauGB)",
   "defaultVisibility": true,
   "id": 761,
   "minScale": 0,
   "supportsDynamicLegends": false,
   "type": "Group Layer",
   "parentLayerId": 760
  },
  {
   "subLayerIds": [
    763,
    764
   ],
   "maxScale": 0,
   "name": "Flächen für Aufschüttungen und Abgrabungen (§ 5 Abs. 2 Nr. 8 BauGB)",
   "defaultVisibility": true,
   "id": 762,
   "minScale": 0,
   "supportsDynamicLegends": false,
   "type": "Group Layer",
   "parentLayerId": 761
  },
  {
   "subLayerIds": null,
   "maxScale": 0,
   "name": "Flächen für Abgrabungen",
   "defaultVisibility": true,
   "id": 763,
   "minScale": 0,
   "supportsDynamicLegends": false,
   "type": "Feature Layer",
   "parentLayerId": 762,
   "geometryType": "esriGeometryPolygon"
  },
  {
   "subLayerIds": [
    765,
    766
   ],
   "maxScale": 0,
   "name": "Fläche für Aufschüttung (Abfall)",
   "defaultVisibility": true,
   "id": 764,
   "minScale": 0,
   "supportsDynamicLegends": false,
   "type": "Group Layer",
   "parentLayerId": 762
  },
  {
   "subLayerIds": null,
   "maxScale": 0,
   "name": "Fläche für Aufschüttung (Abfall) P",
   "defaultVisibility": true,
   "id": 765,
   "minScale": 0,
   "supportsDynamicLegends": true,
   "type": "Feature Layer",
   "parentLayerId": 764,
   "geometryType": "esriGeometryPoint"
  },
  {
   "subLayerIds": null,
   "maxScale": 0,
   "name": "Fläche für Aufschüttung (Abfall)",
   "defaultVisibility": true,
   "id": 766,
   "minScale": 0,
   "supportsDynamicLegends": true,
   "type": "Feature Layer",
   "parentLayerId": 764,
   "geometryType": "esriGeometryPolygon"
  },
  {
   "subLayerIds": [
    768,
    769
   ],
   "maxScale": 0,
   "name": "Übergeordnete Verkehsflächen",
   "defaultVisibility": true,
   "id": 767,
   "minScale": 0,
   "supportsDynamicLegends": false,
   "type": "Group Layer",
   "parentLayerId": 761
  },
  {
   "subLayerIds": null,
   "maxScale": 0,
   "name": "Überörtliche Straßen, nachrichtlich übernommen",
   "defaultVisibility": true,
   "id": 768,
   "minScale": 0,
   "supportsDynamicLegends": true,
   "type": "Feature Layer",
   "parentLayerId": 767,
   "geometryType": "esriGeometryPolyline"
  },
  {
   "subLayerIds": null,
   "maxScale": 0,
   "name": "FNP Layout Autobahn-Mittellinie",
   "defaultVisibility": true,
   "id": 769,
   "minScale": 0,
   "supportsDynamicLegends": true,
   "type": "Feature Layer",
   "parentLayerId": 767,
   "geometryType": "esriGeometryPolyline"
  },
  {
   "subLayerIds": [
    771,
    772,
    775,
    776,
    778,
    780
   ],
   "maxScale": 0,
   "name": "Natur- und Landschaftsschutz",
   "defaultVisibility": true,
   "id": 770,
   "minScale": 0,
   "supportsDynamicLegends": false,
   "type": "Group Layer",
   "parentLayerId": 761
  },
  {
   "subLayerIds": null,
   "maxScale": 0,
   "name": "Festgesetzte Überschwemmungsgebiete (§ 76 WHG)",
   "defaultVisibility": true,
   "id": 771,
   "minScale": 0,
   "supportsDynamicLegends": true,
   "type": "Feature Layer",
   "parentLayerId": 770,
   "geometryType": "esriGeometryPolygon"
  },
  {
   "subLayerIds": [
    773,
    774
   ],
   "maxScale": 0,
   "name": "Geschützte LB",
   "defaultVisibility": true,
   "id": 772,
   "minScale": 0,
   "supportsDynamicLegends": false,
   "type": "Group Layer",
   "parentLayerId": 770
  },
  {
   "subLayerIds": null,
   "maxScale": 0,
   "name": "Verbindungslinie Text",
   "defaultVisibility": true,
   "id": 773,
   "minScale": 0,
   "supportsDynamicLegends": true,
   "type": "Feature Layer",
   "parentLayerId": 772,
   "geometryType": "esriGeometryPolyline"
  },
  {
   "subLayerIds": null,
   "maxScale": 0,
   "name": "Geschützte LB Fläche",
   "defaultVisibility": true,
   "id": 774,
   "minScale": 0,
   "supportsDynamicLegends": true,
   "type": "Feature Layer",
   "parentLayerId": 772,
   "geometryType": "esriGeometryPolygon"
  },
  {
   "subLayerIds": null,
   "maxScale": 0,
   "name": "Kompensationsmaßnahmen",
   "defaultVisibility": true,
   "id": 775,
   "minScale": 0,
   "supportsDynamicLegends": true,
   "type": "Feature Layer",
   "parentLayerId": 770,
   "geometryType": "esriGeometryPolygon"
  },
  {
   "subLayerIds": [
    777
   ],
   "maxScale": 0,
   "name": "Naturschutzgebiete",
   "defaultVisibility": true,
   "id": 776,
   "minScale": 0,
   "supportsDynamicLegends": false,
   "type": "Group Layer",
   "parentLayerId": 770
  },
  {
   "subLayerIds": null,
   "maxScale": 0,
   "name": "Naturschutzgebiete",
   "defaultVisibility": true,
   "id": 777,
   "minScale": 0,
   "supportsDynamicLegends": true,
   "type": "Feature Layer",
   "parentLayerId": 776,
   "geometryType": "esriGeometryPolygon"
  },
  {
   "subLayerIds": [
    779
   ],
   "maxScale": 0,
   "name": "Landschaftsschutzgebiete",
   "defaultVisibility": true,
   "id": 778,
   "minScale": 0,
   "supportsDynamicLegends": false,
   "type": "Group Layer",
   "parentLayerId": 770
  },
  {
   "subLayerIds": null,
   "maxScale": 0,
   "name": "Landschaftsschutzgebiete",
   "defaultVisibility": true,
   "id": 779,
   "minScale": 0,
   "supportsDynamicLegends": true,
   "type": "Feature Layer",
   "parentLayerId": 778,
   "geometryType": "esriGeometryPolygon"
  },
  {
   "subLayerIds": [
    781,
    782,
    783
   ],
   "maxScale": 0,
   "name": "FFH VSG",
   "defaultVisibility": true,
   "id": 780,
   "minScale": 0,
   "supportsDynamicLegends": false,
   "type": "Group Layer",
   "parentLayerId": 770
  },
  {
   "subLayerIds": null,
   "maxScale": 0,
   "name": "Naturschutz Layout Signatur VSG FFH",
   "defaultVisibility": true,
   "id": 781,
   "minScale": 0,
   "supportsDynamicLegends": true,
   "type": "Feature Layer",
   "parentLayerId": 780,
   "geometryType": "esriGeometryPolyline"
  },
  {
   "subLayerIds": null,
   "maxScale": 0,
   "name": "Vogelschutzgebiete (VSG)",
   "defaultVisibility": true,
   "id": 782,
   "minScale": 0,
   "supportsDynamicLegends": true,
   "type": "Feature Layer",
   "parentLayerId": 780,
   "geometryType": "esriGeometryPolygon"
  },
  {
   "subLayerIds": null,
   "maxScale": 0,
   "name": "Flora-Fauna-Habitatgebiete (FFH)",
   "defaultVisibility": true,
   "id": 783,
   "minScale": 0,
   "supportsDynamicLegends": true,
   "type": "Feature Layer",
   "parentLayerId": 780,
   "geometryType": "esriGeometryPolygon"
  },
  {
   "subLayerIds": [
    785
   ],
   "maxScale": 0,
   "name": "Technische Ver- und Entsorgung",
   "defaultVisibility": true,
   "id": 784,
   "minScale": 0,
   "supportsDynamicLegends": false,
   "type": "Group Layer",
   "parentLayerId": 761
  },
  {
   "subLayerIds": null,
   "maxScale": 0,
   "name": "Oberirdische Versorgungsleitung ab 110 kV",
   "defaultVisibility": true,
   "id": 785,
   "minScale": 0,
   "supportsDynamicLegends": true,
   "type": "Feature Layer",
   "parentLayerId": 784,
   "geometryType": "esriGeometryPolyline"
  },
  {
   "subLayerIds": [
    787
   ],
   "maxScale": 0,
   "name": "Wasserrechtliche Festlegungen",
   "defaultVisibility": true,
   "id": 786,
   "minScale": 0,
   "supportsDynamicLegends": false,
   "type": "Group Layer",
   "parentLayerId": 761
  },
  {
   "subLayerIds": null,
   "maxScale": 0,
   "name": "Festgesetzte Trinkwasserschutzgebiete",
   "defaultVisibility": true,
   "id": 787,
   "minScale": 0,
   "supportsDynamicLegends": true,
   "type": "Feature Layer",
   "parentLayerId": 786,
   "geometryType": "esriGeometryPolygon"
  },
  {
   "subLayerIds": [
    789
   ],
   "maxScale": 0,
   "name": "Denkmalschutz",
   "defaultVisibility": true,
   "id": 788,
   "minScale": 0,
   "supportsDynamicLegends": false,
   "type": "Group Layer",
   "parentLayerId": 761
  },
  {
   "subLayerIds": null,
   "maxScale": 0,
   "name": "Amt_61_FNP_Denkmalschutz",
   "defaultVisibility": true,
   "id": 789,
   "minScale": 0,
   "supportsDynamicLegends": true,
   "type": "Feature Layer",
   "parentLayerId": 788,
   "geometryType": "esriGeometryPolygon"
  },
  {
   "subLayerIds": [
    791,
    793
   ],
   "maxScale": 0,
   "name": "Vermerke (§ 5 Abs. 4a BauGB)",
   "defaultVisibility": true,
   "id": 790,
   "minScale": 0,
   "supportsDynamicLegends": false,
   "type": "Group Layer",
   "parentLayerId": 760
  },
  {
   "subLayerIds": [
    792
   ],
   "maxScale": 0,
   "name": "Fläche für Aufschüttung (Abfall) und Abgrabung",
   "defaultVisibility": true,
   "id": 791,
   "minScale": 0,
   "supportsDynamicLegends": false,
   "type": "Group Layer",
   "parentLayerId": 790
  },
  {
   "subLayerIds": null,
   "maxScale": 0,
   "name": "Geplante Flächen für Abgrabungen",
   "defaultVisibility": true,
   "id": 792,
   "minScale": 0,
   "supportsDynamicLegends": true,
   "type": "Feature Layer",
   "parentLayerId": 791,
   "geometryType": "esriGeometryPolygon"
  },
  {
   "subLayerIds": [
    794
   ],
   "maxScale": 0,
   "name": "Wasserrechtliche Festlegungen",
   "defaultVisibility": true,
   "id": 793,
   "minScale": 0,
   "supportsDynamicLegends": false,
   "type": "Group Layer",
   "parentLayerId": 790
  },
  {
   "subLayerIds": null,
   "maxScale": 0,
   "name": "Geplante Trinkwasserschutzgebiete",
   "defaultVisibility": true,
   "id": 794,
   "minScale": 0,
   "supportsDynamicLegends": true,
   "type": "Feature Layer",
   "parentLayerId": 793,
   "geometryType": "esriGeometryPolygon"
  },
  {
   "subLayerIds": [
    796
   ],
   "maxScale": 0,
   "name": "Kennzeichnungen",
   "defaultVisibility": true,
   "id": 795,
   "minScale": 0,
   "supportsDynamicLegends": false,
   "type": "Group Layer",
   "parentLayerId": 760
  },
  {
   "subLayerIds": [
    797
   ],
   "maxScale": 0,
   "name": "Bergbau",
   "defaultVisibility": true,
   "id": 796,
   "minScale": 0,
   "supportsDynamicLegends": false,
   "type": "Group Layer",
   "parentLayerId": 795
  },
  {
   "subLayerIds": null,
   "maxScale": 0,
   "name": "Umgrenzung der Flächen, unter denen der Bergbau umgeht oder für den Abbau von Mineralien bestimmt sind",
   "defaultVisibility": true,
   "id": 797,
   "minScale": 0,
   "supportsDynamicLegends": true,
   "type": "Feature Layer",
   "parentLayerId": 796,
   "geometryType": "esriGeometryPolygon"
  },
  {
   "subLayerIds": [
    799,
    800
   ],
   "maxScale": 0,
   "name": "Nachrichtliche Übernahme Flugverkehr",
   "defaultVisibility": true,
   "id": 798,
   "minScale": 0,
   "supportsDynamicLegends": false,
   "type": "Group Layer",
   "parentLayerId": 760
  },
  {
   "subLayerIds": null,
   "maxScale": 0,
   "name": "Grenze von Bauschutzbereichen nach dem Luftverkehrsgesetz - Layout",
   "defaultVisibility": true,
   "id": 799,
   "minScale": 0,
   "supportsDynamicLegends": true,
   "type": "Feature Layer",
   "parentLayerId": 798,
   "geometryType": "esriGeometryPolyline"
  },
  {
   "subLayerIds": null,
   "maxScale": 0,
   "name": "Grenze von Bauschutzbereichen nach dem Luftverkehrsgesetz - Anflugsektor Flughafen Düsseldorf",
   "defaultVisibility": true,
   "id": 800,
   "minScale": 0,
   "supportsDynamicLegends": true,
   "type": "Feature Layer",
   "parentLayerId": 798,
   "geometryType": "esriGeometryPolygon"
  },
  {
   "subLayerIds": [
    802,
    803
   ],
   "maxScale": 0,
   "name": "FNP Flächen",
   "defaultVisibility": true,
   "id": 801,
   "minScale": 0,
   "supportsDynamicLegends": false,
   "type": "Group Layer",
   "parentLayerId": 805
  },
  {
   "subLayerIds": null,
   "maxScale": 0,
   "name": "FNP Flächengrenzen",
   "defaultVisibility": true,
   "id": 802,
   "minScale": 0,
   "supportsDynamicLegends": true,
   "type": "Feature Layer",
   "parentLayerId": 801,
   "geometryType": "esriGeometryPolygon"
  },
  {
   "subLayerIds": null,
   "maxScale": 0,
   "name": "FNP-Flächen",
   "defaultVisibility": true,
   "id": 803,
   "minScale": 0,
   "supportsDynamicLegends": true,
   "type": "Feature Layer",
   "parentLayerId": 801,
   "geometryType": "esriGeometryPolygon"
  },
  {
   "subLayerIds": null,
   "maxScale": 0,
   "name": "Stadtplan für FNP 2025",
   "defaultVisibility": true,
   "id": 804,
   "minScale": 0,
   "supportsDynamicLegends": true,
   "type": "Raster Layer",
   "parentLayerId": 805
  }
 ],
 "mapName": "FNP_Aktuell",
 "minScale": 150000,
 "archivingInfo": {
  "supportsHistoricMoment": false
 },
 "spatialReference": {
  "falseM": -100000,
  "xyTolerance": 0.001,
  "mUnits": 10000,
  "zUnits": 1,
  "latestWkid": 25832,
  "zTolerance": 2,
  "wkid": 25832,
  "xyUnits": 450445547.3910538,
  "mTolerance": 0.001,
  "falseX": -5120900,
  "falseY": -9998100,
  "falseZ": 0
 },
 "tileImageInfo": {
  "bandCount": 1,
  "lercError": 0,
  "format": "JPEG",
  "compressionQuality": 100
 },
 "fullExtent": {
  "ymin": 5669703.9743063077,
  "xmin": 325483.3200000003,
  "ymax": 5723764.0500000007,
  "xmax": 358922.27182600787,
  "spatialReference": {
   "falseM": -100000,
   "xyTolerance": 0.001,
   "mUnits": 10000,
   "zUnits": 1,
   "latestWkid": 25832,
   "zTolerance": 2,
   "wkid": 25832,
   "xyUnits": 450445547.3910538,
   "mTolerance": 0.001,
   "falseX": -5120900,
   "falseY": -9998100,
   "falseZ": 0
  }
 },
 "supportedExtensions": "WMSServer",
 "capabilities": "Query,Map,Data,Tilemap",
 "supportsDynamicLayers": true,
 "maxScale": 500,
 "singleFusedMapCache": true,
 "currentVersion": 12.1,
 "storageInfo": {
  "storageFormat": "esriMapCacheStorageModeCompactV2",
  "packetSize": 128
 },
 "hasBranchVersionedData": false,
 "mapUnits": {
  "uwkid": 9001
 },
 "referenceScale": 10000,
 "supportsSpatialFilter": true,
 "maxLOD": 8,
 "minLOD": 0,
 "supportedQueryFormats": "JSON, geoJSON, PBF",
 "initialExtent": {
  "ymin": 5706591.105146776,
  "xmin": 344071.24902828393,
  "ymax": 5707506.1629104773,
  "xmax": 345459.27187092887,
  "spatialReference": {
   "falseM": -100000,
   "xyTolerance": 0.001,
   "mUnits": 10000,
   "zUnits": 1,
   "latestWkid": 25832,
   "zTolerance": 2,
   "wkid": 25832,
   "xyUnits": 450445547.3910538,
   "mTolerance": 0.001,
   "falseX": -5120900,
   "falseY": -9998100,
   "falseZ": 0
  }
 },
 "serviceDescription": "Flächennutzung in Duisburg",
 "copyrightText": "Stadt Duisburg; Amt für Bodenordnung, Geomanagement und Kataster",
 "supportsTimeRelation": true
}
