{
 "documentInfo": {
  "Category": "",
  "Keywords": "FNP",
  "Version": "3.4.0",
  "Comments": "Entwurf vom Flächennutzungsplan",
  "AntialiasingMode": "Fast",
  "Title": "Ohne Titel.aprx",
  "Author": "",
  "TextAntialiasingMode": "Force",
  "Subject": "Entwurf vom Flächennutzungsplan"
 },
 "maxImageWidth": 4096,
 "wmtsScaleFactor": 0.00028000000000003521,
 "maxRecordCount": 2000,
 "tileInfo": {
  "lods": [
   {
    "level": 0,
    "scale": 150000,
    "resolution": 39.687579375158755
   },
   {
    "level": 1,
    "scale": 100000,
    "resolution": 26.458386250105836
   },
   {
    "level": 2,
    "scale": 50000,
    "resolution": 13.229193125052918
   },
   {
    "level": 3,
    "scale": 20000,
    "resolution": 5.2916772500211673
   },
   {
    "level": 4,
    "scale": 10000,
    "resolution": 2.6458386250105836
   },
   {
    "level": 5,
    "scale": 5000,
    "resolution": 1.3229193125052918
   },
   {
    "level": 6,
    "scale": 2500,
    "resolution": 0.66145965625264591
   },
   {
    "level": 7,
    "scale": 1000,
    "resolution": 0.26458386250105836
   },
   {
    "level": 8,
    "scale": 500,
    "resolution": 0.13229193125052918
   }
  ],
  "origin": {
   "x": -5120900,
   "y": 9998100
  },
  "format": "JPEG",
  "compressionQuality": 100,
  "rows": 128,
  "dpi": 96,
  "spatialReference": {
   "falseM": -100000,
   "xyTolerance": 0.001,
   "mUnits": 10000,
   "zUnits": 10000,
   "latestWkid": 25832,
   "zTolerance": 0.001,
   "wkid": 25832,
   "xyUnits": 10000,
   "mTolerance": 0.001,
   "falseX": -5120900,
   "falseY": -9998100,
   "falseZ": -100000
  },
  "cols": 128
 },
 "description": "Entwurf vom Flächennutzungsplan",
 "datesInUnknownTimezone": false,
 "supportsQueryDomains": true,
 "units": "esriMeters",
 "maxSelectionCount": 2000,
 "supportedImageFormatTypes": "PNG32,PNG24,PNG,JPG,DIB,TIFF,EMF,PS,PDF,GIF,SVG,SVGZ,BMP",
 "supportsClipping": true,
 "exportTilesAllowed": false,
 "maxImageHeight": 4096,
 "tables": [],
 "hasVersionedData": false,
 "supportsDatumTransformation": true,
 "cimVersion": "3.7.0",
 "supportsQueryDataElements": true,
 "layers": [
  {
   "subLayerIds": [
    1,
    3
   ],
   "maxScale": 0,
   "name": "Stadtplan Vektor 1:20.000 basic",
   "defaultVisibility": true,
   "id": 0,
   "minScale": 0,
   "supportsDynamicLegends": false,
   "type": "Group Layer",
   "parentLayerId": -1
  },
  {
   "subLayerIds": [
    2
   ],
   "maxScale": 0,
   "name": "Stadtplan_Strassen_Beschriftung_FNPAnno",
   "defaultVisibility": true,
   "id": 1,
   "minScale": 0,
   "supportsDynamicLegends": false,
   "type": "Annotation Layer",
   "parentLayerId": 0,
   "geometryType": "esriGeometryPolygon"
  },
  {
   "subLayerIds": null,
   "maxScale": 0,
   "name": "Standard",
   "defaultVisibility": true,
   "id": 2,
   "minScale": 0,
   "supportsDynamicLegends": false,
   "parentLayerId": 1
  },
  {
   "subLayerIds": [
    4,
    9,
    16,
    20,
    22,
    27,
    29
   ],
   "maxScale": 0,
   "name": "Stadtplan Vektor reduziert grau",
   "defaultVisibility": true,
   "id": 3,
   "minScale": 0,
   "supportsDynamicLegends": false,
   "type": "Group Layer",
   "parentLayerId": 0
  },
  {
   "subLayerIds": [
    5,
    6,
    7,
    8
   ],
   "maxScale": 0,
   "name": "Bahn",
   "defaultVisibility": true,
   "id": 4,
   "minScale": 0,
   "supportsDynamicLegends": false,
   "type": "Group Layer",
   "parentLayerId": 3
  },
  {
   "subLayerIds": null,
   "maxScale": 0,
   "name": "bahn_ag_text",
   "defaultVisibility": false,
   "id": 5,
   "minScale": 0,
   "supportsDynamicLegends": true,
   "type": "Feature Layer",
   "parentLayerId": 4,
   "geometryType": "esriGeometryMultipoint"
  },
  {
   "subLayerIds": null,
   "maxScale": 0,
   "name": "bahn_ag_line",
   "defaultVisibility": true,
   "id": 6,
   "minScale": 0,
   "supportsDynamicLegends": true,
   "type": "Feature Layer",
   "parentLayerId": 4,
   "geometryType": "esriGeometryPolyline"
  },
  {
   "subLayerIds": null,
   "maxScale": 0,
   "name": "bahn_gr_line",
   "defaultVisibility": true,
   "id": 7,
   "minScale": 0,
   "supportsDynamicLegends": true,
   "type": "Feature Layer",
   "parentLayerId": 4,
   "geometryType": "esriGeometryPolyline"
  },
  {
   "subLayerIds": null,
   "maxScale": 0,
   "name": "bahn_ag_poly grau",
   "defaultVisibility": true,
   "id": 8,
   "minScale": 0,
   "supportsDynamicLegends": true,
   "type": "Feature Layer",
   "parentLayerId": 4,
   "geometryType": "esriGeometryPolygon"
  },
  {
   "subLayerIds": [
    10,
    11,
    12,
    13,
    14,
    15
   ],
   "maxScale": 0,
   "name": "Strassen",
   "defaultVisibility": true,
   "id": 9,
   "minScale": 0,
   "supportsDynamicLegends": false,
   "type": "Group Layer",
   "parentLayerId": 3
  },
  {
   "subLayerIds": null,
   "maxScale": 0,
   "name": "str_ag_point nur BAB NR",
   "defaultVisibility": true,
   "id": 10,
   "minScale": 0,
   "supportsDynamicLegends": true,
   "type": "Feature Layer",
   "parentLayerId": 9,
   "geometryType": "esriGeometryMultipoint"
  },
  {
   "subLayerIds": null,
   "maxScale": 0,
   "name": "str_ag_point mit Abfahrten",
   "defaultVisibility": false,
   "id": 11,
   "minScale": 0,
   "supportsDynamicLegends": true,
   "type": "Feature Layer",
   "parentLayerId": 9,
   "geometryType": "esriGeometryMultipoint"
  },
  {
   "subLayerIds": null,
   "maxScale": 0,
   "name": "str_ag_line",
   "defaultVisibility": true,
   "id": 12,
   "minScale": 0,
   "supportsDynamicLegends": true,
   "type": "Feature Layer",
   "parentLayerId": 9,
   "geometryType": "esriGeometryPolyline"
  },
  {
   "subLayerIds": null,
   "maxScale": 0,
   "name": "str_gr_line grau",
   "defaultVisibility": true,
   "id": 13,
   "minScale": 0,
   "supportsDynamicLegends": true,
   "type": "Feature Layer",
   "parentLayerId": 9,
   "geometryType": "esriGeometryPolyline"
  },
  {
   "subLayerIds": null,
   "maxScale": 0,
   "name": "str_ag_poly grau",
   "defaultVisibility": true,
   "id": 14,
   "minScale": 0,
   "supportsDynamicLegends": true,
   "type": "Feature Layer",
   "parentLayerId": 9,
   "geometryType": "esriGeometryPolygon"
  },
  {
   "subLayerIds": null,
   "maxScale": 0,
   "name": "str_gr_poly grau",
   "defaultVisibility": true,
   "id": 15,
   "minScale": 0,
   "supportsDynamicLegends": true,
   "type": "Feature Layer",
   "parentLayerId": 9,
   "geometryType": "esriGeometryPolygon"
  },
  {
   "subLayerIds": [
    17,
    18,
    19
   ],
   "maxScale": 0,
   "name": "Bauwerke",
   "defaultVisibility": true,
   "id": 16,
   "minScale": 0,
   "supportsDynamicLegends": false,
   "type": "Group Layer",
   "parentLayerId": 3
  },
  {
   "subLayerIds": null,
   "maxScale": 0,
   "name": "bau_ag_point",
   "defaultVisibility": true,
   "id": 17,
   "minScale": 0,
   "supportsDynamicLegends": true,
   "type": "Feature Layer",
   "parentLayerId": 16,
   "geometryType": "esriGeometryMultipoint"
  },
  {
   "subLayerIds": null,
   "maxScale": 0,
   "name": "bau_ag_line",
   "defaultVisibility": true,
   "id": 18,
   "minScale": 0,
   "supportsDynamicLegends": true,
   "type": "Feature Layer",
   "parentLayerId": 16,
   "geometryType": "esriGeometryPolyline"
  },
  {
   "subLayerIds": null,
   "maxScale": 0,
   "name": "bau_gr_poly grau",
   "defaultVisibility": true,
   "id": 19,
   "minScale": 0,
   "supportsDynamicLegends": true,
   "type": "Feature Layer",
   "parentLayerId": 16,
   "geometryType": "esriGeometryPolygon"
  },
  {
   "subLayerIds": [
    21
   ],
   "maxScale": 0,
   "name": "Grenze",
   "defaultVisibility": true,
   "id": 20,
   "minScale": 0,
   "supportsDynamicLegends": false,
   "type": "Group Layer",
   "parentLayerId": 3
  },
  {
   "subLayerIds": null,
   "maxScale": 0,
   "name": "grz_gr_line",
   "defaultVisibility": true,
   "id": 21,
   "minScale": 0,
   "supportsDynamicLegends": true,
   "type": "Feature Layer",
   "parentLayerId": 20,
   "geometryType": "esriGeometryPolyline"
  },
  {
   "subLayerIds": [
    23,
    24,
    25,
    26
   ],
   "maxScale": 0,
   "name": "Gewaesser",
   "defaultVisibility": true,
   "id": 22,
   "minScale": 0,
   "supportsDynamicLegends": false,
   "type": "Group Layer",
   "parentLayerId": 3
  },
  {
   "subLayerIds": null,
   "maxScale": 0,
   "name": "gew_ag_line grau",
   "defaultVisibility": true,
   "id": 23,
   "minScale": 0,
   "supportsDynamicLegends": true,
   "type": "Feature Layer",
   "parentLayerId": 22,
   "geometryType": "esriGeometryPolyline"
  },
  {
   "subLayerIds": null,
   "maxScale": 0,
   "name": "gew_ag_poly grau",
   "defaultVisibility": true,
   "id": 24,
   "minScale": 0,
   "supportsDynamicLegends": true,
   "type": "Feature Layer",
   "parentLayerId": 22,
   "geometryType": "esriGeometryPolygon"
  },
  {
   "subLayerIds": null,
   "maxScale": 0,
   "name": "gew_gr_poly grau",
   "defaultVisibility": true,
   "id": 25,
   "minScale": 0,
   "supportsDynamicLegends": true,
   "type": "Feature Layer",
   "parentLayerId": 22,
   "geometryType": "esriGeometryPolygon"
  },
  {
   "subLayerIds": null,
   "maxScale": 0,
   "name": "gew_gr_line grau",
   "defaultVisibility": true,
   "id": 26,
   "minScale": 0,
   "supportsDynamicLegends": true,
   "type": "Feature Layer",
   "parentLayerId": 22,
   "geometryType": "esriGeometryPolyline"
  },
  {
   "subLayerIds": [
    28
   ],
   "maxScale": 0,
   "name": "Relief",
   "defaultVisibility": true,
   "id": 27,
   "minScale": 0,
   "supportsDynamicLegends": false,
   "type": "Group Layer",
   "parentLayerId": 3
  },
  {
   "subLayerIds": null,
   "maxScale": 0,
   "name": "reli_ag_line",
   "defaultVisibility": true,
   "id": 28,
   "minScale": 0,
   "supportsDynamicLegends": true,
   "type": "Feature Layer",
   "parentLayerId": 27,
   "geometryType": "esriGeometryPolyline"
  },
  {
   "subLayerIds": [
    30
   ],
   "maxScale": 0,
   "name": "Flaeche",
   "defaultVisibility": true,
   "id": 29,
   "minScale": 0,
   "supportsDynamicLegends": false,
   "type": "Group Layer",
   "parentLayerId": 3
  },
  {
   "subLayerIds": null,
   "maxScale": 0,
   "name": "fla_ag_line",
   "defaultVisibility": true,
   "id": 30,
   "minScale": 0,
   "supportsDynamicLegends": true,
   "type": "Feature Layer",
   "parentLayerId": 29,
   "geometryType": "esriGeometryPolyline"
  }
 ],
 "mapName": "FNP_Stadtplan",
 "minScale": 150000,
 "archivingInfo": {
  "supportsHistoricMoment": false
 },
 "spatialReference": {
  "falseM": -100000,
  "xyTolerance": 0.001,
  "mUnits": 10000,
  "zUnits": 10000,
  "latestWkid": 25832,
  "zTolerance": 0.001,
  "wkid": 25832,
  "xyUnits": 450445547.3910538,
  "mTolerance": 0.001,
  "falseX": -5120900,
  "falseY": -9998100,
  "falseZ": -100000
 },
 "tileImageInfo": {
  "bandCount": 1,
  "lercError": 0,
  "format": "JPEG",
  "compressionQuality": 100
 },
 "fullExtent": {
  "ymin": 5688000,
  "xmin": 333000,
  "ymax": 5716000,
  "xmax": 350500,
  "spatialReference": {
   "falseM": -100000,
   "xyTolerance": 0.001,
   "mUnits": 10000,
   "zUnits": 10000,
   "latestWkid": 25832,
   "zTolerance": 0.001,
   "wkid": 25832,
   "xyUnits": 450445547.3910538,
   "mTolerance": 0.001,
   "falseX": -5120900,
   "falseY": -9998100,
   "falseZ": -100000
  }
 },
 "supportedExtensions": "WMSServer",
 "capabilities": "Map,Query,Data,Tilemap",
 "supportsDynamicLayers": true,
 "maxScale": 500,
 "singleFusedMapCache": true,
 "currentVersion": 12.1,
 "storageInfo": {
  "storageFormat": "esriMapCacheStorageModeCompactV2",
  "packetSize": 128
 },
 "resampling": false,
 "hasBranchVersionedData": false,
 "mapUnits": {
  "uwkid": 9001
 },
 "referenceScale": 20000,
 "supportsSpatialFilter": true,
 "maxLOD": 8,
 "supportedQueryFormats": "JSON, geoJSON, PBF",
 "initialExtent": {
  "ymin": 5696051.5197545839,
  "xmin": 337091.90874048288,
  "ymax": 5701515.2368045235,
  "xmax": 343954.07717820466,
  "spatialReference": {
   "falseM": -100000,
   "xyTolerance": 0.001,
   "mUnits": 10000,
   "zUnits": 10000,
   "latestWkid": 25832,
   "zTolerance": 0.001,
   "wkid": 25832,
   "xyUnits": 450445547.3910538,
   "mTolerance": 0.001,
   "falseX": -5120900,
   "falseY": -9998100,
   "falseZ": -100000
  }
 },
 "serviceDescription": "Entwurf vom Flächennutzungsplan",
 "copyrightText": "",
 "supportsTimeRelation": true
}
