{
 "documentInfo": {
  "Category": "",
  "Keywords": "Regionalkarte,Ruhr",
  "Version": "3.4.0",
  "Comments": "",
  "AntialiasingMode": "Fast",
  "Title": "Ohne Titel.aprx",
  "Author": "",
  "TextAntialiasingMode": "Force",
  "Subject": ""
 },
 "maxImageWidth": 4096,
 "wmtsScaleFactor": 0.00028000000000003521,
 "maxRecordCount": 2000,
 "tileInfo": {
  "lods": [
   {
    "level": 0,
    "scale": 150000,
    "resolution": 39.687579375158755
   },
   {
    "level": 1,
    "scale": 100000,
    "resolution": 26.458386250105836
   },
   {
    "level": 2,
    "scale": 50000,
    "resolution": 13.229193125052918
   },
   {
    "level": 3,
    "scale": 20000,
    "resolution": 5.2916772500211673
   },
   {
    "level": 4,
    "scale": 10000,
    "resolution": 2.6458386250105836
   },
   {
    "level": 5,
    "scale": 5000,
    "resolution": 1.3229193125052918
   },
   {
    "level": 6,
    "scale": 2500,
    "resolution": 0.66145965625264591
   },
   {
    "level": 7,
    "scale": 1000,
    "resolution": 0.26458386250105836
   },
   {
    "level": 8,
    "scale": 500,
    "resolution": 0.13229193125052918
   }
  ],
  "origin": {
   "x": -5120900,
   "y": 9998100
  },
  "format": "PNG",
  "compressionQuality": 0,
  "rows": 256,
  "dpi": 96,
  "spatialReference": {
   "falseM": -100000,
   "xyTolerance": 0.001,
   "mUnits": 10000,
   "zUnits": 10000,
   "latestWkid": 25832,
   "zTolerance": 0.001,
   "wkid": 25832,
   "xyUnits": 450445547.3910538,
   "mTolerance": 0.001,
   "falseX": -5120900,
   "falseY": -9998100,
   "falseZ": -100000
  },
  "cols": 256
 },
 "description": "",
 "datesInUnknownTimezone": false,
 "supportsQueryDomains": true,
 "units": "esriMeters",
 "maxSelectionCount": 2000,
 "supportedImageFormatTypes": "PNG32,PNG24,PNG,JPG,DIB,TIFF,EMF,PS,PDF,GIF,SVG,SVGZ,BMP",
 "supportsClipping": true,
 "exportTilesAllowed": false,
 "maxImageHeight": 4096,
 "tables": [],
 "hasVersionedData": false,
 "supportsDatumTransformation": true,
 "cimVersion": "3.7.0",
 "supportsQueryDataElements": true,
 "layers": [
  {
   "subLayerIds": [
    1
   ],
   "maxScale": 0,
   "name": "StadteAnno_Aenderungsdarstellung",
   "defaultVisibility": true,
   "id": 0,
   "minScale": 0,
   "supportsDynamicLegends": false,
   "type": "Annotation Layer",
   "parentLayerId": -1,
   "geometryType": "esriGeometryPolygon"
  },
  {
   "subLayerIds": null,
   "maxScale": 0,
   "name": "Default",
   "defaultVisibility": true,
   "id": 1,
   "minScale": 0,
   "supportsDynamicLegends": false,
   "parentLayerId": 0
  },
  {
   "subLayerIds": null,
   "maxScale": 0,
   "name": "Punkte RPRuhr",
   "defaultVisibility": true,
   "id": 2,
   "minScale": 0,
   "supportsDynamicLegends": true,
   "type": "Feature Layer",
   "parentLayerId": -1,
   "geometryType": "esriGeometryPoint"
  },
  {
   "subLayerIds": null,
   "maxScale": 0,
   "name": "Kreisgrenzen_ALK_UTM_Linie",
   "defaultVisibility": true,
   "id": 3,
   "minScale": 0,
   "supportsDynamicLegends": true,
   "type": "Feature Layer",
   "parentLayerId": -1,
   "geometryType": "esriGeometryPolyline"
  },
  {
   "subLayerIds": null,
   "maxScale": 0,
   "name": "Stadtgrenzen_ALK_UTM_Linie",
   "defaultVisibility": true,
   "id": 4,
   "minScale": 0,
   "supportsDynamicLegends": true,
   "type": "Feature Layer",
   "parentLayerId": -1,
   "geometryType": "esriGeometryPolyline"
  },
  {
   "subLayerIds": null,
   "maxScale": 0,
   "name": "Linien_RPRuhr",
   "defaultVisibility": true,
   "id": 5,
   "minScale": 0,
   "supportsDynamicLegends": true,
   "type": "Feature Layer",
   "parentLayerId": -1,
   "geometryType": "esriGeometryPolyline"
  },
  {
   "subLayerIds": null,
   "maxScale": 0,
   "name": "RVR_Aussengrenze_ALK_UTM",
   "defaultVisibility": true,
   "id": 6,
   "minScale": 0,
   "supportsDynamicLegends": true,
   "type": "Feature Layer",
   "parentLayerId": -1,
   "geometryType": "esriGeometryPolygon"
  },
  {
   "subLayerIds": null,
   "maxScale": 0,
   "name": "Ueberlagerung RPRuhr",
   "defaultVisibility": true,
   "id": 7,
   "minScale": 0,
   "supportsDynamicLegends": true,
   "type": "Feature Layer",
   "parentLayerId": -1,
   "geometryType": "esriGeometryPolygon"
  },
  {
   "subLayerIds": null,
   "maxScale": 0,
   "name": "Flächen_RPRuhr",
   "defaultVisibility": true,
   "id": 8,
   "minScale": 0,
   "supportsDynamicLegends": true,
   "type": "Feature Layer",
   "parentLayerId": -1,
   "geometryType": "esriGeometryPolygon"
  }
 ],
 "mapName": "RegionalkarteRuhr",
 "minScale": 150000,
 "archivingInfo": {
  "supportsHistoricMoment": false
 },
 "spatialReference": {
  "falseM": -100000,
  "xyTolerance": 0.001,
  "mUnits": 10000,
  "zUnits": 10000,
  "latestWkid": 25832,
  "zTolerance": 0.001,
  "wkid": 25832,
  "xyUnits": 450445547.3910538,
  "mTolerance": 0.001,
  "falseX": -5120900,
  "falseY": -9998100,
  "falseZ": -100000
 },
 "tileImageInfo": {
  "bandCount": 1,
  "lercError": 0,
  "format": "PNG",
  "compressionQuality": 0
 },
 "fullExtent": {
  "ymin": 5678666.575848287,
  "zmin": 0,
  "xmin": 318526.0906639332,
  "ymax": 5736341.6901287939,
  "zmax": 0,
  "xmax": 417144.27274386119,
  "mmax": 797630.2158720002,
  "mmin": -232.00002799998038,
  "spatialReference": {
   "falseM": -100000,
   "xyTolerance": 0.001,
   "mUnits": 10000,
   "zUnits": 10000,
   "latestWkid": 25832,
   "zTolerance": 0.001,
   "wkid": 25832,
   "xyUnits": 450445547.3910538,
   "mTolerance": 0.001,
   "falseX": -5120900,
   "falseY": -9998100,
   "falseZ": -100000
  }
 },
 "supportedExtensions": "WMSServer",
 "capabilities": "Map,Query,Data",
 "supportsDynamicLayers": true,
 "maxScale": 500,
 "singleFusedMapCache": true,
 "currentVersion": 12.1,
 "storageInfo": {
  "storageFormat": "esriMapCacheStorageModeCompactV2",
  "packetSize": 128
 },
 "hasBranchVersionedData": false,
 "mapUnits": {
  "uwkid": 9001
 },
 "referenceScale": 50000,
 "supportsSpatialFilter": true,
 "supportedQueryFormats": "JSON, geoJSON, PBF",
 "initialExtent": {
  "ymin": 5693632.3351281285,
  "xmin": 337866.10981684213,
  "ymax": 5703339.2555836346,
  "xmax": 350057.16690504854,
  "spatialReference": {
   "falseM": -100000,
   "xyTolerance": 0.001,
   "mUnits": 10000,
   "zUnits": 10000,
   "latestWkid": 25832,
   "zTolerance": 0.001,
   "wkid": 25832,
   "xyUnits": 450445547.3910538,
   "mTolerance": 0.001,
   "falseX": -5120900,
   "falseY": -9998100,
   "falseZ": -100000
  }
 },
 "serviceDescription": "",
 "copyrightText": "",
 "supportsTimeRelation": true
}
