{
 "documentInfo": {
  "Category": "",
  "Keywords": "ALKIS,Flurstück,Gemarkung,Flur",
  "Version": "3.4.0",
  "Comments": "",
  "AntialiasingMode": "Fast",
  "Title": "",
  "Author": "",
  "TextAntialiasingMode": "Force",
  "Subject": ""
 },
 "maxImageWidth": 4096,
 "wmtsScaleFactor": 0.00028000000000003521,
 "maxRecordCount": 5000,
 "tileInfo": {
  "lods": [
   {
    "level": 0,
    "scale": 150000,
    "resolution": 39.687579375158755
   },
   {
    "level": 1,
    "scale": 100000,
    "resolution": 26.458386250105836
   },
   {
    "level": 2,
    "scale": 50000,
    "resolution": 13.229193125052918
   },
   {
    "level": 3,
    "scale": 20000,
    "resolution": 5.2916772500211673
   },
   {
    "level": 4,
    "scale": 10000,
    "resolution": 2.6458386250105836
   },
   {
    "level": 5,
    "scale": 5000,
    "resolution": 1.3229193125052918
   },
   {
    "level": 6,
    "scale": 2500,
    "resolution": 0.66145965625264591
   },
   {
    "level": 7,
    "scale": 1000,
    "resolution": 0.26458386250105836
   },
   {
    "level": 8,
    "scale": 500,
    "resolution": 0.13229193125052918
   }
  ],
  "origin": {
   "x": -5120900,
   "y": 9998100
  },
  "format": "PNG",
  "compressionQuality": 0,
  "rows": 256,
  "dpi": 96,
  "spatialReference": {
   "falseM": -100000,
   "xyTolerance": 0.001,
   "mUnits": 10000,
   "zUnits": 10000,
   "latestWkid": 25832,
   "zTolerance": 0.001,
   "wkid": 25832,
   "xyUnits": 450445547.3910538,
   "mTolerance": 0.001,
   "falseX": -5120900,
   "falseY": -9998100,
   "falseZ": -100000
  },
  "cols": 256
 },
 "description": "",
 "datesInUnknownTimezone": false,
 "supportsQueryDomains": true,
 "units": "esriMeters",
 "maxSelectionCount": 2000,
 "supportedImageFormatTypes": "PNG32,PNG24,PNG,JPG,DIB,TIFF,EMF,PS,PDF,GIF,SVG,SVGZ,BMP",
 "supportsClipping": true,
 "exportTilesAllowed": false,
 "maxImageHeight": 4096,
 "tables": [],
 "hasVersionedData": false,
 "supportsDatumTransformation": true,
 "cimVersion": "3.7.0",
 "supportsQueryDataElements": true,
 "layers": [
  {
   "subLayerIds": [
    15
   ],
   "maxScale": 0,
   "name": "Lageinformation",
   "defaultVisibility": true,
   "id": 13,
   "minScale": 0,
   "supportsDynamicLegends": false,
   "type": "Group Layer",
   "parentLayerId": -1
  },
  {
   "subLayerIds": null,
   "maxScale": 0,
   "name": "ohne Hausnummer punktförmig",
   "defaultVisibility": true,
   "id": 15,
   "minScale": 2500,
   "supportsDynamicLegends": true,
   "type": "Feature Layer",
   "parentLayerId": 13,
   "geometryType": "esriGeometryPoint"
  },
  {
   "subLayerIds": [
    18,
    21,
    22,
    23,
    24
   ],
   "maxScale": 0,
   "name": "Flurstücke",
   "defaultVisibility": true,
   "id": 17,
   "minScale": 0,
   "supportsDynamicLegends": false,
   "type": "Group Layer",
   "parentLayerId": -1
  },
  {
   "subLayerIds": null,
   "maxScale": 0,
   "name": "Flurstücksnummern",
   "defaultVisibility": true,
   "id": 18,
   "minScale": 2500,
   "supportsDynamicLegends": true,
   "type": "Feature Layer",
   "parentLayerId": 17,
   "geometryType": "esriGeometryPoint"
  },
  {
   "subLayerIds": null,
   "maxScale": 0,
   "name": "Überhaken",
   "defaultVisibility": true,
   "id": 21,
   "minScale": 2500,
   "supportsDynamicLegends": true,
   "type": "Feature Layer",
   "parentLayerId": 17,
   "geometryType": "esriGeometryPoint"
  },
  {
   "subLayerIds": null,
   "maxScale": 0,
   "name": "Besondere Flurstücksgrenzen",
   "defaultVisibility": true,
   "id": 22,
   "minScale": 2500,
   "supportsDynamicLegends": true,
   "type": "Feature Layer",
   "parentLayerId": 17,
   "geometryType": "esriGeometryPolyline"
  },
  {
   "subLayerIds": null,
   "maxScale": 0,
   "name": "Zuordnungspfeile",
   "defaultVisibility": true,
   "id": 23,
   "minScale": 2500,
   "supportsDynamicLegends": true,
   "type": "Feature Layer",
   "parentLayerId": 17,
   "geometryType": "esriGeometryPolyline"
  },
  {
   "subLayerIds": null,
   "maxScale": 0,
   "name": "Flurstücksflächen",
   "defaultVisibility": true,
   "id": 24,
   "minScale": 150000,
   "supportsDynamicLegends": true,
   "type": "Feature Layer",
   "parentLayerId": 17,
   "geometryType": "esriGeometryPolygon"
  },
  {
   "subLayerIds": [
    109,
    108,
    53,
    55,
    57,
    60,
    61,
    62
   ],
   "maxScale": 0,
   "name": "Gebäude",
   "defaultVisibility": true,
   "id": 52,
   "minScale": 0,
   "supportsDynamicLegends": false,
   "type": "Group Layer",
   "parentLayerId": -1
  },
  {
   "subLayerIds": null,
   "maxScale": 0,
   "name": "Gebäude Texte Dachform (GID6)",
   "defaultVisibility": true,
   "id": 109,
   "minScale": 2250,
   "supportsDynamicLegends": true,
   "type": "Feature Layer",
   "parentLayerId": 52,
   "geometryType": "esriGeometryPoint"
  },
  {
   "subLayerIds": null,
   "maxScale": 0,
   "name": "Gebäude Texte (GID6)",
   "defaultVisibility": true,
   "id": 108,
   "minScale": 2250,
   "supportsDynamicLegends": true,
   "type": "Feature Layer",
   "parentLayerId": 52,
   "geometryType": "esriGeometryPoint"
  },
  {
   "subLayerIds": null,
   "maxScale": 0,
   "name": "geplante Gebäude (Kein ALKIS-Bestand!!!)",
   "defaultVisibility": true,
   "id": 53,
   "minScale": 0,
   "supportsDynamicLegends": true,
   "type": "Feature Layer",
   "parentLayerId": 52,
   "geometryType": "esriGeometryPolygon"
  },
  {
   "subLayerIds": null,
   "maxScale": 0,
   "name": "Gebäude Text",
   "defaultVisibility": true,
   "id": 55,
   "minScale": 2500,
   "supportsDynamicLegends": true,
   "type": "Feature Layer",
   "parentLayerId": 52,
   "geometryType": "esriGeometryPoint"
  },
  {
   "subLayerIds": null,
   "maxScale": 0,
   "name": "Gebäude Signaturen",
   "defaultVisibility": true,
   "id": 57,
   "minScale": 2500,
   "supportsDynamicLegends": true,
   "type": "Feature Layer",
   "parentLayerId": 52,
   "geometryType": "esriGeometryPoint"
  },
  {
   "subLayerIds": null,
   "maxScale": 0,
   "name": "Gebäude Linien",
   "defaultVisibility": true,
   "id": 60,
   "minScale": 2500,
   "supportsDynamicLegends": true,
   "type": "Feature Layer",
   "parentLayerId": 52,
   "geometryType": "esriGeometryPolyline"
  },
  {
   "subLayerIds": null,
   "maxScale": 0,
   "name": "Gebäudeausgestaltung",
   "defaultVisibility": true,
   "id": 61,
   "minScale": 2500,
   "supportsDynamicLegends": true,
   "type": "Feature Layer",
   "parentLayerId": 52,
   "geometryType": "esriGeometryPolyline"
  },
  {
   "subLayerIds": null,
   "maxScale": 0,
   "name": "Gebäude Flächen",
   "defaultVisibility": true,
   "id": 62,
   "minScale": 25001,
   "supportsDynamicLegends": true,
   "type": "Feature Layer",
   "parentLayerId": 52,
   "geometryType": "esriGeometryPolygon"
  },
  {
   "subLayerIds": [
    47,
    48,
    49,
    51
   ],
   "maxScale": 0,
   "name": "Bauwerke",
   "defaultVisibility": true,
   "id": 45,
   "minScale": 0,
   "supportsDynamicLegends": false,
   "type": "Group Layer",
   "parentLayerId": -1
  },
  {
   "subLayerIds": null,
   "maxScale": 0,
   "name": "Bauwerke-Texte",
   "defaultVisibility": true,
   "id": 47,
   "minScale": 2500,
   "supportsDynamicLegends": true,
   "type": "Feature Layer",
   "parentLayerId": 45,
   "geometryType": "esriGeometryPoint"
  },
  {
   "subLayerIds": null,
   "maxScale": 0,
   "name": "Bauwerke-Punkte",
   "defaultVisibility": true,
   "id": 48,
   "minScale": 2500,
   "supportsDynamicLegends": true,
   "type": "Feature Layer",
   "parentLayerId": 45,
   "geometryType": "esriGeometryPoint"
  },
  {
   "subLayerIds": null,
   "maxScale": 0,
   "name": "Bauwerke-Linien",
   "defaultVisibility": true,
   "id": 49,
   "minScale": 2500,
   "supportsDynamicLegends": true,
   "type": "Feature Layer",
   "parentLayerId": 45,
   "geometryType": "esriGeometryPolyline"
  },
  {
   "subLayerIds": null,
   "maxScale": 0,
   "name": "Bauwerke-Flächen",
   "defaultVisibility": true,
   "id": 51,
   "minScale": 24000,
   "supportsDynamicLegends": true,
   "type": "Feature Layer",
   "parentLayerId": 45,
   "geometryType": "esriGeometryPolygon"
  }
 ],
 "mapName": "ALKIS_Karte_Cache",
 "minScale": 150000,
 "archivingInfo": {
  "supportsHistoricMoment": false
 },
 "spatialReference": {
  "falseM": -100000,
  "xyTolerance": 0.001,
  "mUnits": 10000,
  "zUnits": 10000,
  "latestWkid": 25832,
  "zTolerance": 0.001,
  "wkid": 25832,
  "xyUnits": 409501524.789984941,
  "mTolerance": 0.001,
  "falseX": -5682839.59449512046,
  "falseY": -10997760.3372299783,
  "falseZ": -100000
 },
 "tileImageInfo": {
  "bandCount": 1,
  "lercError": 0,
  "format": "PNG",
  "compressionQuality": 0
 },
 "fullExtent": {
  "ymin": 5687825.5239870371,
  "xmin": 316719.32342242036,
  "ymax": 5716202.143240273,
  "xmax": 366328.79764136882,
  "spatialReference": {
   "falseM": -100000,
   "xyTolerance": 0.001,
   "mUnits": 10000,
   "zUnits": 10000,
   "latestWkid": 25832,
   "zTolerance": 0.001,
   "wkid": 25832,
   "xyUnits": 409501524.789984941,
   "mTolerance": 0.001,
   "falseX": -5682839.59449512046,
   "falseY": -10997760.3372299783,
   "falseZ": -100000
  }
 },
 "supportedExtensions": "WMSServer",
 "capabilities": "Map,Query,Data",
 "supportsDynamicLayers": true,
 "maxScale": 500,
 "singleFusedMapCache": true,
 "currentVersion": 12.1,
 "storageInfo": {
  "storageFormat": "esriMapCacheStorageModeCompactV2",
  "packetSize": 128
 },
 "resampling": false,
 "hasBranchVersionedData": false,
 "mapUnits": {
  "uwkid": 9001
 },
 "referenceScale": 1000,
 "supportsSpatialFilter": true,
 "maxLOD": 8,
 "supportedQueryFormats": "JSON, geoJSON, PBF",
 "initialExtent": {
  "ymin": 5700936.097477722,
  "xmin": 343548.33464568871,
  "ymax": 5701068.8011434516,
  "xmax": 343716.74572348275,
  "spatialReference": {
   "falseM": -100000,
   "xyTolerance": 0.001,
   "mUnits": 10000,
   "zUnits": 10000,
   "latestWkid": 25832,
   "zTolerance": 0.001,
   "wkid": 25832,
   "xyUnits": 409501524.789984941,
   "mTolerance": 0.001,
   "falseX": -5682839.59449512046,
   "falseY": -10997760.3372299783,
   "falseZ": -100000
  }
 },
 "serviceDescription": "",
 "copyrightText": "",
 "supportsTimeRelation": true
}
