{
 "documentInfo": {
  "Category": "",
  "Keywords": "DTK-10 Farbig,Topographische Karte",
  "Version": "3.4.0",
  "Comments": "GEO-Basisdaten, DTK-10 Farbig",
  "AntialiasingMode": "Fast",
  "Title": "DTK10_frabig",
  "Author": "",
  "TextAntialiasingMode": "Force",
  "Subject": "GEO-Basisdaten, DTK-10 Farbig"
 },
 "maxImageWidth": 4096,
 "wmtsScaleFactor": 0.00028000000000003521,
 "maxRecordCount": 2000,
 "tileInfo": {
  "lods": [
   {
    "level": 0,
    "scale": 150000,
    "resolution": 39.687579375158755
   },
   {
    "level": 1,
    "scale": 100000,
    "resolution": 26.458386250105836
   },
   {
    "level": 2,
    "scale": 50000,
    "resolution": 13.229193125052918
   },
   {
    "level": 3,
    "scale": 20000,
    "resolution": 5.2916772500211673
   },
   {
    "level": 4,
    "scale": 10000,
    "resolution": 2.6458386250105836
   },
   {
    "level": 5,
    "scale": 5000,
    "resolution": 1.3229193125052918
   },
   {
    "level": 6,
    "scale": 2500,
    "resolution": 0.66145965625264591
   },
   {
    "level": 7,
    "scale": 1000,
    "resolution": 0.26458386250105836
   },
   {
    "level": 8,
    "scale": 500,
    "resolution": 0.13229193125052918
   }
  ],
  "origin": {
   "x": -5120900,
   "y": 9998100
  },
  "format": "PNG",
  "compressionQuality": 0,
  "rows": 256,
  "dpi": 96,
  "spatialReference": {
   "falseM": -100000,
   "xyTolerance": 0.001,
   "mUnits": 10000,
   "zUnits": 10000,
   "latestWkid": 25832,
   "zTolerance": 0.001,
   "wkid": 25832,
   "xyUnits": 450445547.3910538,
   "mTolerance": 0.001,
   "falseX": -5120900,
   "falseY": -9998100,
   "falseZ": -100000
  },
  "cols": 256
 },
 "description": "GEO-Basisdaten, DTK-10 Farbig",
 "datesInUnknownTimezone": false,
 "supportsQueryDomains": true,
 "units": "esriMeters",
 "maxSelectionCount": 2000,
 "supportedImageFormatTypes": "PNG32,PNG24,PNG,JPG,DIB,TIFF,EMF,PS,PDF,GIF,SVG,SVGZ,BMP",
 "supportsClipping": true,
 "exportTilesAllowed": false,
 "maxImageHeight": 4096,
 "tables": [],
 "hasVersionedData": false,
 "supportsDatumTransformation": true,
 "cimVersion": "3.7.0",
 "supportsQueryDataElements": true,
 "layers": [
  {
   "subLayerIds": null,
   "maxScale": 250,
   "name": "DTK10_farbig",
   "defaultVisibility": true,
   "id": 0,
   "minScale": 150000,
   "supportsDynamicLegends": true,
   "type": "Raster Layer",
   "parentLayerId": -1
  }
 ],
 "mapName": "DTK10_farbig",
 "minScale": 150000,
 "archivingInfo": {
  "supportsHistoricMoment": false
 },
 "spatialReference": {
  "falseM": -100000,
  "xyTolerance": 0.001,
  "mUnits": 10000,
  "zUnits": 10000,
  "latestWkid": 25832,
  "zTolerance": 0.001,
  "wkid": 25832,
  "xyUnits": 450445547.3910538,
  "mTolerance": 0.001,
  "falseX": -5120900,
  "falseY": -9998100,
  "falseZ": -100000
 },
 "tileImageInfo": {
  "bandCount": 1,
  "lercError": 0,
  "format": "PNG",
  "compressionQuality": 0
 },
 "fullExtent": {
  "ymin": 5686909.6498575974,
  "xmin": 328914.97693279077,
  "ymax": 5720485.3420089819,
  "xmax": 352608.46181976056,
  "spatialReference": {
   "falseM": -100000,
   "xyTolerance": 0.001,
   "mUnits": 10000,
   "zUnits": 10000,
   "latestWkid": 25832,
   "zTolerance": 0.001,
   "wkid": 25832,
   "xyUnits": 450445547.3910538,
   "mTolerance": 0.001,
   "falseX": -5120900,
   "falseY": -9998100,
   "falseZ": -100000
  }
 },
 "supportedExtensions": "WMSServer",
 "capabilities": "Query,Map,Data",
 "supportsDynamicLayers": true,
 "maxScale": 500,
 "singleFusedMapCache": true,
 "currentVersion": 12.1,
 "storageInfo": {
  "storageFormat": "esriMapCacheStorageModeCompactV2",
  "packetSize": 128
 },
 "hasBranchVersionedData": false,
 "mapUnits": {
  "uwkid": 9001
 },
 "referenceScale": 0,
 "supportsSpatialFilter": true,
 "maxLOD": 8,
 "minLOD": 0,
 "supportedQueryFormats": "JSON, geoJSON, PBF",
 "datumTransformations": [
  {
   "geoTransforms": [
    {
     "latestWkid": 1241,
     "transformForward": true,
     "wkid": 108001,
     "name": "NAD_1927_To_NAD_1983_NADCON"
    }
   ]
  },
  {
   "geoTransforms": [
    {
     "latestWkid": 1241,
     "transformForward": false,
     "wkid": 108001,
     "name": "NAD_1927_To_NAD_1983_NADCON"
    }
   ]
  }
 ],
 "initialExtent": {
  "ymin": 5703960.6283719502,
  "xmin": 343646.52516521153,
  "ymax": 5704862.9553614147,
  "xmax": 344791.64696710312,
  "spatialReference": {
   "falseM": -100000,
   "xyTolerance": 0.001,
   "mUnits": 10000,
   "zUnits": 10000,
   "latestWkid": 25832,
   "zTolerance": 0.001,
   "wkid": 25832,
   "xyUnits": 450445547.3910538,
   "mTolerance": 0.001,
   "falseX": -5120900,
   "falseY": -9998100,
   "falseZ": -100000
  }
 },
 "serviceDescription": "GEO-Basisdaten, DTK-10 Farbig",
 "copyrightText": "",
 "supportsTimeRelation": true
}
