{
 "documentInfo": {
  "Category": "",
  "Keywords": "",
  "Version": "3.4.0",
  "Comments": "",
  "AntialiasingMode": "Fast",
  "Title": "Karte",
  "Author": "",
  "TextAntialiasingMode": "Force",
  "Subject": ""
 },
 "maxImageWidth": 4096,
 "wmtsScaleFactor": 0.00028000000000003521,
 "maxRecordCount": 2000,
 "tileInfo": {
  "lods": [
   {
    "level": 0,
    "scale": 150000,
    "resolution": 39.687579375158755
   },
   {
    "level": 1,
    "scale": 100000,
    "resolution": 26.458386250105836
   },
   {
    "level": 2,
    "scale": 50000,
    "resolution": 13.229193125052918
   },
   {
    "level": 3,
    "scale": 20000,
    "resolution": 5.2916772500211673
   },
   {
    "level": 4,
    "scale": 10000,
    "resolution": 2.6458386250105836
   },
   {
    "level": 5,
    "scale": 5000,
    "resolution": 1.3229193125052918
   },
   {
    "level": 6,
    "scale": 2500,
    "resolution": 0.66145965625264591
   },
   {
    "level": 7,
    "scale": 1000,
    "resolution": 0.26458386250105836
   },
   {
    "level": 8,
    "scale": 500,
    "resolution": 0.13229193125052918
   }
  ],
  "origin": {
   "x": -5120900,
   "y": 9998100
  },
  "format": "JPEG",
  "compressionQuality": 100,
  "rows": 128,
  "dpi": 96,
  "spatialReference": {
   "falseM": -100000,
   "xyTolerance": 0.001,
   "mUnits": 10000,
   "zUnits": 10000,
   "latestWkid": 25832,
   "zTolerance": 0.001,
   "wkid": 25832,
   "xyUnits": 10000,
   "mTolerance": 0.001,
   "falseX": -5120900,
   "falseY": -9998100,
   "falseZ": -100000
  },
  "cols": 128
 },
 "description": "",
 "datesInUnknownTimezone": false,
 "supportsQueryDomains": true,
 "units": "esriMeters",
 "maxSelectionCount": 2000,
 "supportedImageFormatTypes": "PNG32,PNG24,PNG,JPG,DIB,TIFF,EMF,PS,PDF,GIF,SVG,SVGZ,BMP",
 "supportsClipping": true,
 "exportTilesAllowed": false,
 "maxImageHeight": 4096,
 "tables": [],
 "hasVersionedData": false,
 "supportsDatumTransformation": true,
 "cimVersion": "3.7.0",
 "supportsQueryDataElements": true,
 "layers": [
  {
   "subLayerIds": null,
   "maxScale": 0,
   "name": "Luftbilder_2025_teilbelaubt",
   "defaultVisibility": true,
   "id": 0,
   "minScale": 0,
   "supportsDynamicLegends": true,
   "type": "Raster Layer",
   "parentLayerId": -1
  }
 ],
 "mapName": "Luftbilder_2025_teilbelaubt",
 "minScale": 150000,
 "archivingInfo": {
  "supportsHistoricMoment": false
 },
 "spatialReference": {
  "falseM": -100000,
  "xyTolerance": 0.001,
  "mUnits": 10000,
  "zUnits": 10000,
  "latestWkid": 25832,
  "zTolerance": 0.00020000000000000001,
  "wkid": 25832,
  "xyUnits": 10000,
  "mTolerance": 0.00020000000000000001,
  "falseX": -5120900,
  "falseY": -9998100,
  "falseZ": -100000
 },
 "tileImageInfo": {
  "bandCount": 1,
  "lercError": 0,
  "format": "JPEG",
  "compressionQuality": 100
 },
 "fullExtent": {
  "ymin": 5688999.9429363403,
  "xmin": 333999.93227716302,
  "ymax": 5715999.9429363394,
  "xmax": 349999.93227716401,
  "spatialReference": {
   "falseM": -100000,
   "xyTolerance": 0.001,
   "mUnits": 10000,
   "zUnits": 10000,
   "latestWkid": 25832,
   "zTolerance": 0.00020000000000000001,
   "wkid": 25832,
   "xyUnits": 10000,
   "mTolerance": 0.00020000000000000001,
   "falseX": -5120900,
   "falseY": -9998100,
   "falseZ": -100000
  }
 },
 "supportedExtensions": "WMSServer",
 "capabilities": "Map,Query,Data",
 "supportsDynamicLayers": true,
 "maxScale": 500,
 "singleFusedMapCache": true,
 "currentVersion": 12.1,
 "storageInfo": {
  "storageFormat": "esriMapCacheStorageModeCompactV2",
  "packetSize": 128
 },
 "hasBranchVersionedData": false,
 "mapUnits": {
  "uwkid": 9001
 },
 "referenceScale": 0,
 "supportsSpatialFilter": true,
 "maxLOD": 8,
 "minLOD": 0,
 "supportedQueryFormats": "JSON, geoJSON, PBF",
 "initialExtent": {
  "ymin": 5700315.3033836856,
  "xmin": 346671.03801578796,
  "ymax": 5700850.3310194165,
  "xmax": 347370.02573343727,
  "spatialReference": {
   "falseM": -100000,
   "xyTolerance": 0.001,
   "mUnits": 10000,
   "zUnits": 10000,
   "latestWkid": 25832,
   "zTolerance": 0.00020000000000000001,
   "wkid": 25832,
   "xyUnits": 10000,
   "mTolerance": 0.00020000000000000001,
   "falseX": -5120900,
   "falseY": -9998100,
   "falseZ": -100000
  }
 },
 "serviceDescription": "",
 "copyrightText": "",
 "supportsTimeRelation": true
}
