{
 "documentInfo": {
  "Category": "",
  "Keywords": "Stadtplan",
  "Version": "3.4.0",
  "Comments": "Aktueller Stadtplan von Duisburg",
  "AntialiasingMode": "Fast",
  "Title": "Stadtplan",
  "Author": "",
  "TextAntialiasingMode": "Force",
  "Subject": "Aktueller Stadtplan"
 },
 "maxImageWidth": 4096,
 "wmtsScaleFactor": 0.00028000000000003521,
 "maxRecordCount": 2000,
 "tileInfo": {
  "lods": [
   {
    "level": 0,
    "scale": 150000,
    "resolution": 39.687579375158755
   },
   {
    "level": 1,
    "scale": 100000,
    "resolution": 26.458386250105836
   },
   {
    "level": 2,
    "scale": 50000,
    "resolution": 13.229193125052918
   },
   {
    "level": 3,
    "scale": 20000,
    "resolution": 5.2916772500211673
   },
   {
    "level": 4,
    "scale": 10000,
    "resolution": 2.6458386250105836
   },
   {
    "level": 5,
    "scale": 5000,
    "resolution": 1.3229193125052918
   },
   {
    "level": 6,
    "scale": 2500,
    "resolution": 0.66145965625264591
   },
   {
    "level": 7,
    "scale": 1000,
    "resolution": 0.26458386250105836
   },
   {
    "level": 8,
    "scale": 500,
    "resolution": 0.13229193125052918
   }
  ],
  "origin": {
   "x": -5120900,
   "y": 9998100
  },
  "format": "JPEG",
  "compressionQuality": 100,
  "rows": 128,
  "dpi": 96,
  "spatialReference": {
   "falseM": -100000,
   "xyTolerance": 0.001,
   "mUnits": 10000,
   "zUnits": 10000,
   "latestWkid": 25832,
   "zTolerance": 0.001,
   "wkid": 25832,
   "xyUnits": 10000,
   "mTolerance": 0.001,
   "falseX": -5120900,
   "falseY": -9998100,
   "falseZ": -100000
  },
  "cols": 128
 },
 "description": "Aktueller Stadtplan von Duisburg",
 "datesInUnknownTimezone": false,
 "supportsQueryDomains": true,
 "units": "esriMeters",
 "maxSelectionCount": 2000,
 "supportedImageFormatTypes": "PNG32,PNG24,PNG,JPG,DIB,TIFF,EMF,PS,PDF,GIF,SVG,SVGZ,BMP",
 "supportsClipping": true,
 "exportTilesAllowed": false,
 "maxImageHeight": 4096,
 "tables": [],
 "hasVersionedData": false,
 "supportsDatumTransformation": true,
 "cimVersion": "3.7.0",
 "supportsQueryDataElements": true,
 "layers": [
  {
   "subLayerIds": null,
   "maxScale": 0,
   "name": "Stadtplan 2025 graublau 2500",
   "defaultVisibility": true,
   "id": 0,
   "minScale": 2500,
   "supportsDynamicLegends": true,
   "type": "Raster Layer",
   "parentLayerId": -1
  },
  {
   "subLayerIds": null,
   "maxScale": 2501,
   "name": "Stadtplan 2025 graublau 5000",
   "defaultVisibility": true,
   "id": 1,
   "minScale": 7500,
   "supportsDynamicLegends": true,
   "type": "Raster Layer",
   "parentLayerId": -1
  },
  {
   "subLayerIds": null,
   "maxScale": 7501,
   "name": "Stadtplan 2025 graublau 10000",
   "defaultVisibility": true,
   "id": 2,
   "minScale": 12500,
   "supportsDynamicLegends": true,
   "type": "Raster Layer",
   "parentLayerId": -1
  },
  {
   "subLayerIds": null,
   "maxScale": 12501,
   "name": "Stadtplan 2025 graublau 15000",
   "defaultVisibility": true,
   "id": 3,
   "minScale": 17500,
   "supportsDynamicLegends": true,
   "type": "Raster Layer",
   "parentLayerId": -1
  },
  {
   "subLayerIds": null,
   "maxScale": 17501,
   "name": "Stadtplan 2025 graublau 20000",
   "defaultVisibility": true,
   "id": 4,
   "minScale": 25000,
   "supportsDynamicLegends": true,
   "type": "Raster Layer",
   "parentLayerId": -1
  },
  {
   "subLayerIds": null,
   "maxScale": 25001,
   "name": "Stadtplan 2024 graublau 50000",
   "defaultVisibility": true,
   "id": 5,
   "minScale": 75000,
   "supportsDynamicLegends": true,
   "type": "Raster Layer",
   "parentLayerId": -1
  },
  {
   "subLayerIds": null,
   "maxScale": 75001,
   "name": "Stadtplan 2024 graublau 100000",
   "defaultVisibility": true,
   "id": 6,
   "minScale": 200000,
   "supportsDynamicLegends": true,
   "type": "Raster Layer",
   "parentLayerId": -1
  }
 ],
 "mapName": "Stadtplan_Aktuell_GrBl",
 "minScale": 150000,
 "archivingInfo": {
  "supportsHistoricMoment": false
 },
 "spatialReference": {
  "falseM": -100000,
  "xyTolerance": 0.001,
  "mUnits": 10000,
  "zUnits": 10000,
  "latestWkid": 25832,
  "zTolerance": 0.001,
  "wkid": 25832,
  "xyUnits": 450445547.3910538,
  "mTolerance": 0.001,
  "falseX": -5120900,
  "falseY": -9998100,
  "falseZ": -100000
 },
 "tileImageInfo": {
  "bandCount": 1,
  "lercError": 0,
  "format": "JPEG",
  "compressionQuality": 100
 },
 "fullExtent": {
  "ymin": 5688010.7492495701,
  "xmin": 333213.05636819126,
  "ymax": 5716514.4483050127,
  "xmax": 350466.23201171,
  "spatialReference": {
   "falseM": -100000,
   "xyTolerance": 0.001,
   "mUnits": 10000,
   "zUnits": 10000,
   "latestWkid": 25832,
   "zTolerance": 0.001,
   "wkid": 25832,
   "xyUnits": 450445547.3910538,
   "mTolerance": 0.001,
   "falseX": -5120900,
   "falseY": -9998100,
   "falseZ": -100000
  }
 },
 "supportedExtensions": "WMSServer",
 "capabilities": "Query,Map,Data",
 "supportsDynamicLayers": true,
 "maxScale": 500,
 "singleFusedMapCache": true,
 "currentVersion": 12.1,
 "storageInfo": {
  "storageFormat": "esriMapCacheStorageModeCompactV2",
  "packetSize": 128
 },
 "hasBranchVersionedData": false,
 "mapUnits": {
  "uwkid": 9001
 },
 "referenceScale": 0,
 "supportsSpatialFilter": true,
 "maxLOD": 8,
 "minLOD": 0,
 "supportedQueryFormats": "JSON, geoJSON, PBF",
 "initialExtent": {
  "ymin": 5705740.575045282,
  "xmin": 344431.52984880761,
  "ymax": 5707288.6695334706,
  "xmax": 346450.71115437022,
  "spatialReference": {
   "falseM": -100000,
   "xyTolerance": 0.001,
   "mUnits": 10000,
   "zUnits": 10000,
   "latestWkid": 25832,
   "zTolerance": 0.001,
   "wkid": 25832,
   "xyUnits": 450445547.3910538,
   "mTolerance": 0.001,
   "falseX": -5120900,
   "falseY": -9998100,
   "falseZ": -100000
  }
 },
 "serviceDescription": "Aktueller Stadtplan von Duisburg",
 "copyrightText": "",
 "supportsTimeRelation": true
}
